BEGIN:VCALENDAR
VERSION:2.0
PRODID:-//ChamberMaster//Event Calendar 2.0//EN
METHOD:PUBLISH
X-PUBLISHED-TTL:P1H
REFRESH-INTERVAL:P1H
CALSCALE:GREGORIAN
BEGIN:VTIMEZONE
TZID:America/Chicago
BEGIN:DAYLIGHT
RRULE:FREQ=YEARLY;BYMONTH=3;BYDAY=2SU
DTSTART:20070101T000000
TZOFFSETFROM:-0600
TZOFFSETTO:-0500
TZNAME:Central Daylight Time
END:DAYLIGHT
BEGIN:STANDARD
RRULE:FREQ=YEARLY;BYMONTH=11;BYDAY=1SU
DTSTART:20070101T000000
TZOFFSETFROM:-0500
TZOFFSETTO:-0600
TZNAME:Central Standard Time
END:STANDARD
END:VTIMEZONE
BEGIN:VEVENT
DTSTART;TZID=America/Chicago:20260418T083000
DTEND;TZID=America/Chicago:20260418T110000
X-MICROSOFT-CDO-ALLDAYEVENT:FALSE
SUMMARY:2026 Free Spring Electronics Recycling Collection
DESCRIPTION:The Vermilion County Health Department\, in partnership with DACC and Keep Vermilion County Beautiful (KVCB)\, will host a free electronics collection event from 8:30 a.m. to 11:00 a.m. on Saturday\, April 18. The event will take place in the north parking lot of DACC\, 2000 East Main Street\, Danville\, and is open to all residents of Vermilion County. This environmentally focused initiative encourages residents to responsibly dispose of broken\, obsolete\, or unwanted electronics. While the event is free of charge\, donations to Keep Vermilion County Beautiful are appreciated to support future beautification efforts. Residents may bring a maximum of seven televisions or computer monitors\, in any combination\, per household. Other accepted items include:  Televisions (CRT and flat screen)  Monitors (CRT and flat screen)  Computers and laptops   Printers\, scanners\, and copiers   Keyboards\, mice\, and computer peripherals   DVD players\, VCRs\, gaming consoles   Fax machines\, cell phones\, PDAs   Satellite dishes\, cable boxes   Cameras\, radios\, clocks   Fans\, vacuum cleaners\, and wiring Please note that the following items will not be accepted: paint\, motor oil\, or large appliances. See less
X-ALT-DESC;FMTTYPE=text/html:<!DOCTYPE html><html><head><title></title></head><body aria-disabled="false"><p>The Vermilion County Health Department\, in partnership with DACC and Keep Vermilion County Beautiful (KVCB)\, will host a free electronics collection event from 8:30 a.m. to 11:00 a.m. on Saturday\, April 18. The event will take place in the north parking lot of DACC\, 2000 East Main Street\, Danville\, and is open to all residents of Vermilion County. This environmentally focused initiative encourages residents to responsibly dispose of broken\, obsolete\, or unwanted electronics. While the event is free of charge\, donations to Keep Vermilion County Beautiful are appreciated to support future beautification efforts.&nbsp\;</p><p>Residents may bring a maximum of seven televisions or computer monitors\, in any combination\, per household. Other accepted items include:</p><p>&bull\; Televisions (CRT and flat screen)</p><p>&bull\; Monitors (CRT and flat screen)</p><p>&bull\; Computers and laptops&nbsp\;</p><p>&bull\; Printers\, scanners\, and copiers&nbsp\;</p><p>&bull\; Keyboards\, mice\, and computer peripherals&nbsp\;</p><p>&bull\; DVD players\, VCRs\, gaming consoles&nbsp\;</p><p>&bull\; Fax machines\, cell phones\, PDAs&nbsp\;</p><p>&bull\; Satellite dishes\, cable boxes&nbsp\;</p><p>&bull\; Cameras\, radios\, clocks&nbsp\;</p><p>&bull\; Fans\, vacuum cleaners\, and wiring&nbsp\;</p><p>Please note that the following items will not be accepted: paint\, motor oil\, or large appliances. See less</p></body></html>
LOCATION:2000 E. Main St. Danville IL 61832
UID:e.4394.1443188
SEQUENCE:3
DTSTAMP:20260422T182824Z
URL:https://vermilionadvantagenfp.growthzoneapp.com/communityeventscalendar/Details/2026-free-spring-electronics-recycling-collection-1709397?sourceTypeId=Hub
END:VEVENT
END:VCALENDAR
