BEGIN:VCALENDAR
VERSION:2.0
PRODID:-//ChamberMaster//Event Calendar 2.0//EN
METHOD:PUBLISH
X-PUBLISHED-TTL:P1H
REFRESH-INTERVAL:P1H
CALSCALE:GREGORIAN
BEGIN:VTIMEZONE
TZID:America/Chicago
BEGIN:DAYLIGHT
RRULE:FREQ=YEARLY;BYMONTH=3;BYDAY=2SU
DTSTART:20070101T000000
TZOFFSETFROM:-0600
TZOFFSETTO:-0500
TZNAME:Central Daylight Time
END:DAYLIGHT
BEGIN:STANDARD
RRULE:FREQ=YEARLY;BYMONTH=11;BYDAY=1SU
DTSTART:20070101T000000
TZOFFSETFROM:-0500
TZOFFSETTO:-0600
TZNAME:Central Standard Time
END:STANDARD
END:VTIMEZONE
BEGIN:VEVENT
DTSTART;TZID=America/Chicago:20260504T190000
DTEND;TZID=America/Chicago:20260504T210000
X-MICROSOFT-CDO-ALLDAYEVENT:FALSE
SUMMARY:A Journey Toward Freedom: Stories of African-American Life in Vermilion County\, Illinois
DESCRIPTION:In connection with the 200th Anniversary Celebration. Learn local African American history through word and song.
X-ALT-DESC;FMTTYPE=text/html:<!DOCTYPE html><html><head><title></title></head><body aria-disabled="false"><p>In connection with the 200th Anniversary Celebration. Learn local African American history through word and song.</p></body></html>
LOCATION:202 E. Fairchild Danville IL
UID:e.4394.1448152
SEQUENCE:3
DTSTAMP:20260422T183008Z
URL:https://vermilionadvantagenfp.growthzoneapp.com/communityeventscalendar/Details/a-journey-toward-freedom-stories-of-african-american-life-in-vermilion-county-illinois-1715155?sourceTypeId=Hub
END:VEVENT
END:VCALENDAR
