BEGIN:VCALENDAR
VERSION:2.0
PRODID:-//ChamberMaster//Event Calendar 2.0//EN
METHOD:PUBLISH
X-PUBLISHED-TTL:P1H
REFRESH-INTERVAL:P1H
CALSCALE:GREGORIAN
BEGIN:VTIMEZONE
TZID:America/Chicago
BEGIN:DAYLIGHT
RRULE:FREQ=YEARLY;BYMONTH=3;BYDAY=2SU
DTSTART:20070101T000000
TZOFFSETFROM:-0600
TZOFFSETTO:-0500
TZNAME:Central Daylight Time
END:DAYLIGHT
BEGIN:STANDARD
RRULE:FREQ=YEARLY;BYMONTH=11;BYDAY=1SU
DTSTART:20070101T000000
TZOFFSETFROM:-0500
TZOFFSETTO:-0600
TZNAME:Central Standard Time
END:STANDARD
END:VTIMEZONE
BEGIN:VEVENT
DTSTART;TZID=America/Chicago:20260509T183000
DTEND;TZID=America/Chicago:20260509T203000
X-MICROSOFT-CDO-ALLDAYEVENT:FALSE
SUMMARY:Chicago Snowballs
DESCRIPTION:We are excited to welcome the Chicago Snowballs to our very own Danville Stadium! Danville is ready to shine as the Chicago Snowballs bring their first-ever appearance to Danville Stadium for an electrifying two-day debut. The debut series promises fast-paced action\, dancing\, singing\, trick plays\, nonstop energy\, and the thrill of witnessing's history unfold right here at home. Fans cans expect nonstop intensity on the field and an unforgettable atmosphere in the stands as the Snowballs take the spotlight in Central Illinois. Mark your calendars for two exciting weekends: May 9 & 10\, 2026 August 22 & 23\, 2026 Historic Danville Stadium in Danville\, IL. Buy tickets now!
X-ALT-DESC;FMTTYPE=text/html:<!DOCTYPE html><html><head><title></title></head><body aria-disabled="false"><p>We are excited to welcome the Chicago Snowballs to our very own Danville Stadium! Danville is ready to shine as the Chicago Snowballs bring their first-ever appearance to Danville Stadium for an electrifying two-day debut. The debut series promises fast-paced action\, dancing\, singing\, trick plays\, nonstop energy\, and the thrill of witnessing&#39\;s history unfold right here at home. Fans cans expect nonstop intensity on the field and an unforgettable atmosphere in the stands as the Snowballs take the spotlight in Central Illinois. Mark your calendars for two exciting weekends: May 9 &amp\; 10\, 2026 August 22 &amp\; 23\, 2026 Historic Danville Stadium in Danville\, IL.&nbsp\;</p><p><a fr-original-style="" href="https://www.chicagosnowballs.com/tickets" style="user-select: auto\;">Buy tickets now</a>!</p></body></html>
LOCATION:9th and Highland Blvd Danville IL 61832
UID:e.4394.1443432
SEQUENCE:3
DTSTAMP:20260422T182824Z
URL:https://vermilionadvantagenfp.growthzoneapp.com/communityeventscalendar/Details/chicago-snowballs-1709674?sourceTypeId=Hub
END:VEVENT
END:VCALENDAR
