BEGIN:VCALENDAR
VERSION:2.0
PRODID:-//ChamberMaster//Event Calendar 2.0//EN
METHOD:PUBLISH
X-PUBLISHED-TTL:P1H
REFRESH-INTERVAL:P1H
CALSCALE:GREGORIAN
BEGIN:VTIMEZONE
TZID:America/Chicago
BEGIN:DAYLIGHT
RRULE:FREQ=YEARLY;BYMONTH=3;BYDAY=2SU
DTSTART:20070101T000000
TZOFFSETFROM:-0600
TZOFFSETTO:-0500
TZNAME:Central Daylight Time
END:DAYLIGHT
BEGIN:STANDARD
RRULE:FREQ=YEARLY;BYMONTH=11;BYDAY=1SU
DTSTART:20070101T000000
TZOFFSETFROM:-0500
TZOFFSETTO:-0600
TZNAME:Central Standard Time
END:STANDARD
END:VTIMEZONE
BEGIN:VEVENT
DTSTART;TZID=America/Chicago:20260428T140000
DTEND;TZID=America/Chicago:20260428T180000
X-MICROSOFT-CDO-ALLDAYEVENT:FALSE
SUMMARY:Danville Art League Community Give Back Day at Danville Gardens
DESCRIPTION:20% of all purchases will support this local organization that gives back so graciously to our community!
X-ALT-DESC;FMTTYPE=text/html:<!DOCTYPE html><html><head><title></title></head><body aria-disabled="false"><p>20% of all purchases will support this local organization that gives back so graciously to our community!</p></body></html>
LOCATION:1307 Cleary Ave. Danville IL 61832
UID:e.4394.1446688
SEQUENCE:3
DTSTAMP:20260422T183009Z
URL:https://vermilionadvantagenfp.growthzoneapp.com/communityeventscalendar/Details/danville-art-league-community-give-back-day-at-danville-gardens-1713498?sourceTypeId=Hub
END:VEVENT
END:VCALENDAR
