BEGIN:VCALENDAR
VERSION:2.0
PRODID:-//ChamberMaster//Event Calendar 2.0//EN
METHOD:PUBLISH
X-PUBLISHED-TTL:P1H
REFRESH-INTERVAL:P1H
CALSCALE:GREGORIAN
BEGIN:VTIMEZONE
TZID:America/Chicago
BEGIN:DAYLIGHT
RRULE:FREQ=YEARLY;BYMONTH=3;BYDAY=2SU
DTSTART:20070101T000000
TZOFFSETFROM:-0600
TZOFFSETTO:-0500
TZNAME:Central Daylight Time
END:DAYLIGHT
BEGIN:STANDARD
RRULE:FREQ=YEARLY;BYMONTH=11;BYDAY=1SU
DTSTART:20070101T000000
TZOFFSETFROM:-0500
TZOFFSETTO:-0600
TZNAME:Central Standard Time
END:STANDARD
END:VTIMEZONE
BEGIN:VEVENT
DTSTART;TZID=America/Chicago:20260417T180000
DTEND;TZID=America/Chicago:20260418T210000
X-MICROSOFT-CDO-ALLDAYEVENT:FALSE
SUMMARY:Danville Rodeo
DESCRIPTION:The David S. Palmer Arena proudly presents the T & A Rodeo\, coming to Danville\, Illinois! Join us for an unforgettable experience as local rodeo stars dazzle the crowd\, and rising talents compete for their first big win.  As we partner with the T&A Bucking Bulls family\, we invite everyone—contestants\, fans\, and newcomers alike—to be part of the excitement. Get ready for adventure\, tradition\, and world-class rodeo action.\n2 NIGHTS OF BULLS\, BRONCS\, BARRELLS\, & MUTTON BUSTIN'\nDOORS 6PM / RODEO 7PM\n*kids 8 and under are FREE*
X-ALT-DESC;FMTTYPE=text/html:The David S. Palmer Arena proudly presents the T & A Rodeo\, coming to Danville\, Illinois! Join us for an unforgettable experience as local rodeo stars dazzle the crowd\, and rising talents compete for their first big win.  As we partner with the T&A Bucking Bulls family\, we invite everyone—contestants\, fans\, and newcomers alike—to be part of the excitement. Get ready for adventure\, tradition\, and world-class rodeo action.\n2 NIGHTS OF BULLS\, BRONCS\, BARRELLS\, & MUTTON BUSTIN'\nDOORS 6PM / RODEO 7PM\n*kids 8 and under are FREE*
LOCATION:100 W. Main St. Danville IL 61832
UID:e.4394.1443203
SEQUENCE:3
DTSTAMP:20260422T182824Z
URL:https://vermilionadvantagenfp.growthzoneapp.com/communityeventscalendar/Details/danville-rodeo-1709412?sourceTypeId=Hub
END:VEVENT
END:VCALENDAR
