BEGIN:VCALENDAR
VERSION:2.0
PRODID:-//ChamberMaster//Event Calendar 2.0//EN
METHOD:PUBLISH
X-PUBLISHED-TTL:P1H
REFRESH-INTERVAL:P1H
CALSCALE:GREGORIAN
BEGIN:VTIMEZONE
TZID:America/Chicago
BEGIN:DAYLIGHT
RRULE:FREQ=YEARLY;BYMONTH=3;BYDAY=2SU
DTSTART:20070101T000000
TZOFFSETFROM:-0600
TZOFFSETTO:-0500
TZNAME:Central Daylight Time
END:DAYLIGHT
BEGIN:STANDARD
RRULE:FREQ=YEARLY;BYMONTH=11;BYDAY=1SU
DTSTART:20070101T000000
TZOFFSETFROM:-0500
TZOFFSETTO:-0600
TZNAME:Central Standard Time
END:STANDARD
END:VTIMEZONE
BEGIN:VEVENT
DTSTART;TZID=America/Chicago:20260424T170000
DTEND;TZID=America/Chicago:20260424T210000
X-MICROSOFT-CDO-ALLDAYEVENT:FALSE
SUMMARY:Last Fish Fry of The Season
DESCRIPTION:Fish Dinners includes fries\, coleslaw\, corn casserole\, dinner roll & dessert. We use Alaskan pollock fish and also have chicken tenders available\, if you prefer. Adult Dinners $12.00 Children Dinners-$8.00 Live Music by The Tuneslingers from 6-9 PMWe start serving dinners at 5pm-until Gone
X-ALT-DESC;FMTTYPE=text/html:<!DOCTYPE html><html><head><title></title></head><body aria-disabled="false"><p>Fish Dinners includes fries\, coleslaw\, corn casserole\, dinner roll &amp\; dessert. We use Alaskan pollock fish and also have chicken tenders available\, if you prefer. Adult Dinners $12.00 Children Dinners-$8.00 Live Music by The Tuneslingers from 6-9 PM</p><p>We start serving dinners at 5pm-until Gone</p></body></html>
LOCATION:115 S. State St. Westville IL 61883
UID:e.4394.1444546
SEQUENCE:3
DTSTAMP:20260422T183009Z
URL:https://vermilionadvantagenfp.growthzoneapp.com/communityeventscalendar/Details/last-fish-fry-of-the-season-1710921?sourceTypeId=Hub
END:VEVENT
END:VCALENDAR
