BEGIN:VCALENDAR
VERSION:2.0
PRODID:-//ChamberMaster//Event Calendar 2.0//EN
METHOD:PUBLISH
X-PUBLISHED-TTL:P1H
REFRESH-INTERVAL:P1H
CALSCALE:GREGORIAN
BEGIN:VTIMEZONE
TZID:America/Chicago
BEGIN:DAYLIGHT
RRULE:FREQ=YEARLY;BYMONTH=3;BYDAY=2SU
DTSTART:20070101T000000
TZOFFSETFROM:-0600
TZOFFSETTO:-0500
TZNAME:Central Daylight Time
END:DAYLIGHT
BEGIN:STANDARD
RRULE:FREQ=YEARLY;BYMONTH=11;BYDAY=1SU
DTSTART:20070101T000000
TZOFFSETFROM:-0500
TZOFFSETTO:-0600
TZNAME:Central Standard Time
END:STANDARD
END:VTIMEZONE
BEGIN:VEVENT
DTSTART;TZID=America/Chicago:20260428T090000
DTEND;TZID=America/Chicago:20260428T150000
X-MICROSOFT-CDO-ALLDAYEVENT:FALSE
SUMMARY:Leadership Out Loud
DESCRIPTION:For first-time and front-line leaders. This course focuses on overcoming the hurdles associated with transitioning from peer to leader. Leaders focus on how to set expectations and learn to hold their employees accountable. $225/ seat\, lunch included. Register here.
X-ALT-DESC;FMTTYPE=text/html:<!DOCTYPE html><html><head><title></title></head><body aria-disabled="false"><p>For first-time and front-line leaders. This course focuses on overcoming the hurdles associated with transitioning from peer to leader. Leaders focus on how to set expectations and learn to hold their employees accountable. $225/ seat\, lunch included. Register <a fr-original-style="" href="https://www.monyokleadership.com/events" rel="noopener noreferrer" style="user-select: auto\;" target="_blank">here</a>.</p><p><br></p><p><br></p></body></html>
LOCATION:Danville IL 61832
UID:e.4394.1440869
SEQUENCE:3
DTSTAMP:20260422T182822Z
URL:https://vermilionadvantagenfp.growthzoneapp.com/communityeventscalendar/Details/leadership-out-loud-1706071?sourceTypeId=Hub
END:VEVENT
END:VCALENDAR
