BEGIN:VCALENDAR
VERSION:2.0
PRODID:-//ChamberMaster//Event Calendar 2.0//EN
METHOD:PUBLISH
X-PUBLISHED-TTL:P1H
REFRESH-INTERVAL:P1H
CALSCALE:GREGORIAN
BEGIN:VTIMEZONE
TZID:America/Chicago
BEGIN:DAYLIGHT
RRULE:FREQ=YEARLY;BYMONTH=3;BYDAY=2SU
DTSTART:20070101T000000
TZOFFSETFROM:-0600
TZOFFSETTO:-0500
TZNAME:Central Daylight Time
END:DAYLIGHT
BEGIN:STANDARD
RRULE:FREQ=YEARLY;BYMONTH=11;BYDAY=1SU
DTSTART:20070101T000000
TZOFFSETFROM:-0500
TZOFFSETTO:-0600
TZNAME:Central Standard Time
END:STANDARD
END:VTIMEZONE
BEGIN:VEVENT
DTSTART;TZID=America/Chicago:20260520T150000
DTEND;TZID=America/Chicago:20260520T160000
X-MICROSOFT-CDO-ALLDAYEVENT:FALSE
SUMMARY:Memory Care Support Group
DESCRIPTION:We invite you to join our support group for the friends and families caring for loved ones with memory impairment. We meet in the Hawthorne Inn Restaurant every 3rd Wednesday of the month at 3:00 pm. No need to RSVP
X-ALT-DESC;FMTTYPE=text/html:We invite you to join our support group for the friends and families caring for loved ones with memory impairment. We meet in the Hawthorne Inn Restaurant every 3rd Wednesday of the month at 3:00 pm. No need to RSVP
LOCATION:3222 Independence Dr Danville IL 61832
UID:e.4394.1443283
SEQUENCE:3
DTSTAMP:20260422T182807Z
URL:https://vermilionadvantagenfp.growthzoneapp.com/communityeventscalendar/Details/memory-care-support-group-1709496?sourceTypeId=Hub
END:VEVENT
END:VCALENDAR
