BEGIN:VCALENDAR
VERSION:2.0
PRODID:-//ChamberMaster//Event Calendar 2.0//EN
METHOD:PUBLISH
X-PUBLISHED-TTL:P1H
REFRESH-INTERVAL:P1H
CALSCALE:GREGORIAN
BEGIN:VTIMEZONE
TZID:America/Chicago
BEGIN:DAYLIGHT
RRULE:FREQ=YEARLY;BYMONTH=3;BYDAY=2SU
DTSTART:20070101T000000
TZOFFSETFROM:-0600
TZOFFSETTO:-0500
TZNAME:Central Daylight Time
END:DAYLIGHT
BEGIN:STANDARD
RRULE:FREQ=YEARLY;BYMONTH=11;BYDAY=1SU
DTSTART:20070101T000000
TZOFFSETFROM:-0500
TZOFFSETTO:-0600
TZNAME:Central Standard Time
END:STANDARD
END:VTIMEZONE
BEGIN:VEVENT
DTSTART;TZID=America/Chicago:20260607T130000
DTEND;TZID=America/Chicago:20260607T150000
X-MICROSOFT-CDO-ALLDAYEVENT:FALSE
SUMMARY:Vermilion County Museum - Fithian Home Open House
DESCRIPTION:Meet The great granddaughter of General john Charles Black\, stepson of Dr. William Fithian who lived in the home at 116 N. Gilbert Street. View artifacts relating to him and his family.
X-ALT-DESC;FMTTYPE=text/html:<!DOCTYPE html><html><head><title></title></head><body aria-disabled="false"><p>Meet The great granddaughter of General john Charles Black\, stepson of Dr. William Fithian who lived in the home at 116 N. Gilbert Street. View artifacts relating to him and his family.&nbsp\;</p></body></html>
LOCATION:
UID:e.4394.1448157
SEQUENCE:3
DTSTAMP:20260422T183010Z
URL:https://vermilionadvantagenfp.growthzoneapp.com/communityeventscalendar/Details/vermilion-county-museum-fithian-home-open-house-1715160?sourceTypeId=Hub
END:VEVENT
END:VCALENDAR
