BEGIN:VCALENDAR
VERSION:2.0
PRODID:-//ChamberMaster//Event Calendar 2.0//EN
METHOD:PUBLISH
X-PUBLISHED-TTL:P1H
REFRESH-INTERVAL:P1H
CALSCALE:GREGORIAN
BEGIN:VTIMEZONE
TZID:America/Chicago
BEGIN:DAYLIGHT
RRULE:FREQ=YEARLY;BYMONTH=3;BYDAY=2SU
DTSTART:20070101T000000
TZOFFSETFROM:-0600
TZOFFSETTO:-0500
TZNAME:Central Daylight Time
END:DAYLIGHT
BEGIN:STANDARD
RRULE:FREQ=YEARLY;BYMONTH=11;BYDAY=1SU
DTSTART:20070101T000000
TZOFFSETFROM:-0500
TZOFFSETTO:-0600
TZNAME:Central Standard Time
END:STANDARD
END:VTIMEZONE
BEGIN:VEVENT
DTSTART;TZID=America/Chicago:20260425T090000
DTEND;TZID=America/Chicago:20260425T120000
X-MICROSOFT-CDO-ALLDAYEVENT:FALSE
SUMMARY:Walk a Mile in Her Shoes
DESCRIPTION:Join in our important (and fun) one-mile march to raise awareness about the difficult topic of sexual violence against women. Just as it isn't easy to walk in high heeled shoes\, we know it is also uncomfortable to talk about sexual violence. At this event\, men and all community members are encouraged to march wearing women's high heels. We provide the shoes! Each year we have hundreds of men\, women and children of all ages join us for this powerful event. Open to individuals or groups of family\, friends or coworkers. All registered walkers will receive a t-shirt. \nLink to register: https://www.zeffy.com/en-US/ticketing/walk-a-mile-in-her-shoes--2026
X-ALT-DESC;FMTTYPE=text/html:<!DOCTYPE html><html><head><title></title></head><body aria-disabled="false"><p><span style="color: rgb(60\, 61\, 61)\; font-family: avenir-lt-w01_35-light1475496\, sans-serif\; font-size: 18px\; font-style: normal\; font-variant-ligatures: normal\; font-variant-caps: normal\; font-weight: 400\; letter-spacing: normal\; orphans: 2\; text-align: start\; text-indent: 0px\; text-transform: none\; widows: 2\; word-spacing: 0px\; -webkit-text-stroke-width: 0px\; white-space: normal\; text-decoration-thickness: initial\; text-decoration-style: initial\; text-decoration-color: initial\; display: inline !important\; float: none\;">Join in our important (and fun) one-mile march to raise awareness about the difficult topic of sexual violence against women. Just as it isn&rsquo\;t easy to walk in high heeled shoes\, we know it is also uncomfortable to talk about sexual violence. At this event\, men and all community members are encouraged to march wearing women&#39\;s high heels. We provide the shoes! Each year we have hundreds of men\, women and children of all ages join us for this powerful event. Open to individuals or groups of family\, friends or coworkers. All registered walkers will receive a t-shirt.</span>&nbsp\;</p><p><br></p><p>Link to register:&nbsp\;<a fr-original-style="" href="https://www.zeffy.com/en-US/ticketing/walk-a-mile-in-her-shoes--2026" style="user-select: auto\;">https://www.zeffy.com/en-US/ticketing/walk-a-mile-in-her-shoes--2026</a></p></body></html>
LOCATION:
UID:e.4394.1442560
SEQUENCE:3
DTSTAMP:20260422T182959Z
URL:https://vermilionadvantagenfp.growthzoneapp.com/communityeventscalendar/Details/walk-a-mile-in-her-shoes-1708594?sourceTypeId=Hub
END:VEVENT
END:VCALENDAR
