BEGIN:VCALENDAR
VERSION:2.0
PRODID:-//ChamberMaster//Event Calendar 2.0//EN
METHOD:PUBLISH
X-PUBLISHED-TTL:P1H
REFRESH-INTERVAL:P1H
CALSCALE:GREGORIAN
BEGIN:VTIMEZONE
TZID:America/Chicago
BEGIN:DAYLIGHT
RRULE:FREQ=YEARLY;BYMONTH=3;BYDAY=2SU
DTSTART:20070101T000000
TZOFFSETFROM:-0600
TZOFFSETTO:-0500
TZNAME:Central Daylight Time
END:DAYLIGHT
BEGIN:STANDARD
RRULE:FREQ=YEARLY;BYMONTH=11;BYDAY=1SU
DTSTART:20070101T000000
TZOFFSETFROM:-0500
TZOFFSETTO:-0600
TZNAME:Central Standard Time
END:STANDARD
END:VTIMEZONE
BEGIN:VEVENT
DTSTART;TZID=America/Chicago:20260624T163000
DTEND;TZID=America/Chicago:20260624T183000
X-MICROSOFT-CDO-ALLDAYEVENT:FALSE
SUMMARY:Business After Hours: Patriot Pure Water and Rossi Studios
DESCRIPTION:Join us for a relaxing evening of networking at our June Business After Hours at the Danville Boat Club! Take in beautiful lake views from the patio while you mix\, mingle\, and make new connections. Enjoy complimentary appetizers\, a cash bar\, and great conversation in a laid-back setting.Sponsored by Patriot Pure Water and Rossi Studios.
X-ALT-DESC;FMTTYPE=text/html:<!DOCTYPE html><html><head><title></title></head><body aria-disabled="false"><p><span style="color: rgb(41\, 105\, 176)\; font-size: 24px\;">J</span><span style="font-size: 24px\; color: rgb(41\, 105\, 176)\;">oin us for a relaxing evening of networking at our June Business After Hours at the Danville Boat Club! Take in beautiful lake views from the patio while you mix\, mingle\, and make new connections. Enjoy complimentary appetizers\, a cash bar\, and great conversation in a laid-back setting.</span></p><div style="border: 0px\; font-style: inherit\; font-variant: inherit\; font-weight: inherit\; font-stretch: inherit\; font-size: 12pt\; line-height: inherit\; font-family: Aptos\, Aptos_EmbeddedFont\, Aptos_MSFontService\, Calibri\, Helvetica\, sans-serif\; font-optical-sizing: inherit\; font-size-adjust: inherit\; font-kerning: inherit\; font-feature-settings: inherit\; font-variation-settings: inherit\; font-language-override: inherit\; margin: 1em 0px\; padding: 0px\; vertical-align: baseline\; color: rgb(0\, 0\, 0)\;"><span style="font-size: 24px\; color: rgb(41\, 105\, 176)\;">Sponsored by <strong fr-original-style="" style="font-weight: 700\;"><em>Patriot Pure Water</em></strong> and <strong fr-original-style="" style="font-weight: 700\;"><em>Rossi Studios</em></strong>.</span></div><p><br></p><p><br></p><p><br></p><p><br></p></body></html>
LOCATION:15750 Boat Club Road Danville IL 61834
UID:e.4394.1440080
SEQUENCE:3
DTSTAMP:20260422T183011Z
URL:https://vermilionadvantagenfp.growthzoneapp.com/communityeventscalendar/Details/business-after-hours-patriot-pure-water-and-rossi-studios-1704774?sourceTypeId=Hub
END:VEVENT
END:VCALENDAR
