BEGIN:VCALENDAR
VERSION:2.0
PRODID:-//ChamberMaster//Event Calendar 2.0//EN
METHOD:PUBLISH
X-PUBLISHED-TTL:P1H
REFRESH-INTERVAL:P1H
CALSCALE:GREGORIAN
BEGIN:VTIMEZONE
TZID:America/Chicago
BEGIN:DAYLIGHT
RRULE:FREQ=YEARLY;BYMONTH=3;BYDAY=2SU
DTSTART:20070101T000000
TZOFFSETFROM:-0600
TZOFFSETTO:-0500
TZNAME:Central Daylight Time
END:DAYLIGHT
BEGIN:STANDARD
RRULE:FREQ=YEARLY;BYMONTH=11;BYDAY=1SU
DTSTART:20070101T000000
TZOFFSETFROM:-0500
TZOFFSETTO:-0600
TZNAME:Central Standard Time
END:STANDARD
END:VTIMEZONE
BEGIN:VEVENT
DTSTART;TZID=America/Chicago:20260422T113000
DTEND;TZID=America/Chicago:20260422T130000
X-MICROSOFT-CDO-ALLDAYEVENT:FALSE
SUMMARY:Business & Networking Luncheon: OSF Healthcare
DESCRIPTION:Join us for lunch and networking! Lance Thurlow\, Practice Manager\, of OSF Healthcare Sacred Heart Medical Center is the keynote speaker and sponsor. He'll discuss "The Future of Health Care in Vermilion County."Business & Networking Luncheons provide an opportunity for professionals to connect\, share insights\, and strengthen relationships in a welcoming and collaborative environment. Each luncheon features engaging speakers\, timely business topics\, and meaningful conversations designed to foster professional growth and community partnerships. Attendees can enjoy a delicious meal while expanding their network and gaining valuable knowledge to support their business success.
X-ALT-DESC;FMTTYPE=text/html:<!DOCTYPE html><html><head><title></title></head><body aria-disabled="false"><p><span style="color: rgb(41\, 105\, 176)\; font-size: 24px\;">Join us for lunch and networking! Lance Thurlow\, Practice Manager\,<strong fr-original-style="" style="font-weight: 700\;">&nbsp\;of</strong> <strong fr-original-style="" style="font-weight: 700\;">OSF Healthcare Sacred Heart Medical Center</strong> is the keynote speaker and sponsor. He&#39\;ll discuss &quot\;The Future of Health Care in Vermilion County.&quot\;</span></p><p><span style="color: rgb(65\, 168\, 95)\; font-size: 18px\;">Business &amp\; Networking Luncheons provide an opportunity for professionals to connect\, share insights\, and strengthen relationships in a welcoming and collaborative environment. Each luncheon features engaging speakers\, timely business topics\, and meaningful conversations designed to foster professional growth and community partnerships. Attendees can enjoy a delicious meal while expanding their network and gaining valuable knowledge to support their business success.</span></p></body></html>
LOCATION:100 W. Main St. Danville IL 61832
UID:e.4394.1373575
SEQUENCE:3
DTSTAMP:20260422T182959Z
URL:https://vermilionadvantagenfp.growthzoneapp.com/communityeventscalendar/Details/business-networking-luncheon-osf-healthcare-1621372?sourceTypeId=Hub
END:VEVENT
END:VCALENDAR
