BEGIN:VCALENDAR
VERSION:2.0
PRODID:-//ChamberMaster//Event Calendar 2.0//EN
METHOD:PUBLISH
X-PUBLISHED-TTL:P1H
REFRESH-INTERVAL:P1H
CALSCALE:GREGORIAN
BEGIN:VTIMEZONE
TZID:America/Chicago
BEGIN:DAYLIGHT
RRULE:FREQ=YEARLY;BYMONTH=3;BYDAY=2SU
DTSTART:20070101T000000
TZOFFSETFROM:-0600
TZOFFSETTO:-0500
TZNAME:Central Daylight Time
END:DAYLIGHT
BEGIN:STANDARD
RRULE:FREQ=YEARLY;BYMONTH=11;BYDAY=1SU
DTSTART:20070101T000000
TZOFFSETFROM:-0500
TZOFFSETTO:-0600
TZNAME:Central Standard Time
END:STANDARD
END:VTIMEZONE
BEGIN:VEVENT
DTSTART;TZID=America/Chicago:20260707T090000
DTEND;TZID=America/Chicago:20260707T103000
X-MICROSOFT-CDO-ALLDAYEVENT:FALSE
SUMMARY:Coffee Talk: Ross Webb
DESCRIPTION:Join Vermilion Advantage for a morning coffee\, conversation\, and connection with Ross Webb! Whether you're a seasoned business professional or a newcomer looking to make your mark in the local business community\, this event is the perfect opportunity to network\, share ideas\, and build relationships. It's a casual environment. You bring the conversation\; we'll bring the coffee!
X-ALT-DESC;FMTTYPE=text/html:<!DOCTYPE html><html><head><title></title></head><body aria-disabled="false"><p><span style="color: rgb(41\, 105\, 176)\; font-size: 24px\;">Join Vermilion Advantage for a morning coffee\, conversation\, and connection with<strong fr-original-style="" style="font-weight: 700\;">&nbsp\;Ross Webb</strong>!&nbsp\;</span></p><p><span style="color: rgb(65\, 168\, 95)\; font-size: 18px\;">Whether you&#39\;re a seasoned business professional or a newcomer looking to make your mark in the local business community\, this event is the perfect opportunity to network\, share ideas\, and build relationships. It&#39\;s a casual environment. You bring the conversation\; we&#39\;ll bring the coffee!</span></p></body></html>
LOCATION:711 Oak St. Danville IL 61832
UID:e.4394.1373347
SEQUENCE:3
DTSTAMP:20260422T182807Z
URL:https://vermilionadvantagenfp.growthzoneapp.com/communityeventscalendar/Details/coffee-talk-ross-webb-1621106?sourceTypeId=Hub
END:VEVENT
END:VCALENDAR
