BEGIN:VCALENDAR
VERSION:2.0
PRODID:-//ChamberMaster//Event Calendar 2.0//EN
METHOD:PUBLISH
X-PUBLISHED-TTL:P1H
REFRESH-INTERVAL:P1H
CALSCALE:GREGORIAN
BEGIN:VTIMEZONE
TZID:America/Chicago
BEGIN:DAYLIGHT
RRULE:FREQ=YEARLY;BYMONTH=3;BYDAY=2SU
DTSTART:20070101T000000
TZOFFSETFROM:-0600
TZOFFSETTO:-0500
TZNAME:Central Daylight Time
END:DAYLIGHT
BEGIN:STANDARD
RRULE:FREQ=YEARLY;BYMONTH=11;BYDAY=1SU
DTSTART:20070101T000000
TZOFFSETFROM:-0500
TZOFFSETTO:-0600
TZNAME:Central Standard Time
END:STANDARD
END:VTIMEZONE
BEGIN:VEVENT
DTSTART;TZID=America/Chicago:20260415T113000
DTEND;TZID=America/Chicago:20260415T130000
X-MICROSOFT-CDO-ALLDAYEVENT:FALSE
SUMMARY:Professional Development Group: Connections That Count
DESCRIPTION:Connections That Count: Turning Relationships into Opportunity with Heather TuckerProfessional Development Group is presented by Express Employment. The Professional Development Group is a monthly luncheon series designed to foster growth and learning among professionals. Each session will feature engaging topics and expert speakers focused on enhancing skills\, building knowledge\, and advancing career development.
X-ALT-DESC;FMTTYPE=text/html:<!DOCTYPE html><html><head><title></title></head><body aria-disabled="false"><p><span style="font-size: 24px\; color: rgb(41\, 105\, 176)\;">Connections That Count: Turning Relationships into Opportunity with <em>Heather Tucke</em></span><span style="color: rgb(41\, 105\, 176)\; font-size: 24px\;"><em>r</em></span></p><p><span style="font-size: 24px\; color: rgb(41\, 105\, 176)\;">Professional Development Group is presented by <strong fr-original-style="" style="font-weight: 700\;"><em>Express Employment</em></strong>.&nbsp\;</span></p><p><span style="font-size: 18px\; color: rgb(65\, 168\, 95)\;">The Professional Development Group is a monthly luncheon series designed to foster growth and learning among professionals. Each session will feature engaging topics and expert speakers focused on enhancing skills\, building knowledge\, and advancing career development.</span></p></body></html>
LOCATION:100 W. Main St. Danville IL 61832
UID:e.4394.1374118
SEQUENCE:3
DTSTAMP:20260422T182807Z
URL:https://vermilionadvantagenfp.growthzoneapp.com/communityeventscalendar/Details/professional-development-group-connections-that-count-1622044?sourceTypeId=Hub
END:VEVENT
END:VCALENDAR
