BEGIN:VCALENDAR
VERSION:2.0
PRODID:-//ChamberMaster//Event Calendar 2.0//EN
METHOD:PUBLISH
X-PUBLISHED-TTL:P1H
REFRESH-INTERVAL:P1H
CALSCALE:GREGORIAN
BEGIN:VTIMEZONE
TZID:America/Chicago
BEGIN:DAYLIGHT
RRULE:FREQ=YEARLY;BYMONTH=3;BYDAY=2SU
DTSTART:20070101T000000
TZOFFSETFROM:-0600
TZOFFSETTO:-0500
TZNAME:Central Daylight Time
END:DAYLIGHT
BEGIN:STANDARD
RRULE:FREQ=YEARLY;BYMONTH=11;BYDAY=1SU
DTSTART:20070101T000000
TZOFFSETFROM:-0500
TZOFFSETTO:-0600
TZNAME:Central Standard Time
END:STANDARD
END:VTIMEZONE
BEGIN:VEVENT
DTSTART;TZID=America/Chicago:20260916T113000
DTEND;TZID=America/Chicago:20260916T130000
X-MICROSOFT-CDO-ALLDAYEVENT:FALSE
SUMMARY:Professional Development Group: Think Bigger
DESCRIPTION:Think Bigger: Strategic Thinking for Growth and Professional Impact with Lynn YoerkLynn Yoerk is a seasoned franchisee\, business leader\, and consultant based in Champaign\, Illinois. Over the course of her career\, she has expanded her organization to include four successful franchise locations\, each supported by strong Managing Partners she mentors and empowers. Known for her strategic vision and people‑centered leadership\, Lynn has built a reputation for creating high‑performing teams and sustainable business growth.\nFor the past nine years\, Lynn has also served as a trusted consultant to other franchisees\, helping them strengthen operations\, improve profitability\, and scale with confidence. Her guidance blends real‑world experience\, practical systems\, and a deep understanding of what drives both people and performance.\nBeyond her own ventures\, Lynn is actively involved in her children's three businesses in Knoxville\, Tennessee\, offering support\, insight\, and entrepreneurial wisdom as they build their own paths.\nPassionate about community\, collaboration\, and meaningful experiences\, Lynn continues to bring people together through workshops\, events\, and leadership development opportunities designed to inspire courageous growth in both business and life.\nProfessional Development Group is presented by Express Employment. The Professional Development Group is a monthly luncheon series designed to foster growth and learning among professionals. Each session will feature engaging topics and expert speakers focused on enhancing skills\, building knowledge\, and advancing career development.
X-ALT-DESC;FMTTYPE=text/html:<!DOCTYPE html><html><head><title></title></head><body aria-disabled="false"><p><span style="color: rgb(41\, 105\, 176)\; font-size: 24px\;">Think Bigger: Strategic Thinking for Growth and Professional Impact with<em>&nbsp\;Lynn Yoerk</em></span></p><div data-olk-copy-source="MessageBody" style="border: 0px\; font-style: inherit\; font-variant: inherit\; font-weight: inherit\; font-stretch: inherit\; font-size: 12pt\; line-height: inherit\; font-family: Aptos\, Aptos_EmbeddedFont\, Aptos_MSFontService\, Calibri\, Helvetica\, sans-serif\; font-optical-sizing: inherit\; font-size-adjust: inherit\; font-kerning: inherit\; font-feature-settings: inherit\; font-variation-settings: inherit\; font-language-override: inherit\; margin: 0px\; padding: 0px\; vertical-align: baseline\; color: rgb(0\, 0\, 0)\;"><span style="color: rgb(41\, 105\, 176)\; font-size: 18px\;">Lynn Yoerk is a seasoned franchisee\, business leader\, and consultant based in Champaign\, Illinois. Over the course of her career\, she has expanded her organization to include four successful franchise locations\, each supported by strong Managing Partners she mentors and empowers. Known for her strategic vision and people‑centered leadership\, Lynn has built a reputation for creating high‑performing teams and sustainable business growth.<br>For the past nine years\, Lynn has also served as a trusted consultant to other franchisees\, helping them strengthen operations\, improve profitability\, and scale with confidence. Her guidance blends real‑world experience\, practical systems\, and a deep understanding of what drives both people and performance.<br>Beyond her own ventures\, Lynn is actively involved in her children&rsquo\;s three businesses in Knoxville\, Tennessee\, offering support\, insight\, and entrepreneurial wisdom as they build their own paths.<br>Passionate about community\, collaboration\, and meaningful experiences\, Lynn continues to bring people together through workshops\, events\, and leadership development opportunities designed to inspire courageous growth in both business and life.</span></div><div style="border: 0px\; font-style: inherit\; font-variant: inherit\; font-weight: inherit\; font-stretch: inherit\; font-size: 12pt\; line-height: inherit\; font-family: Aptos\, Aptos_EmbeddedFont\, Aptos_MSFontService\, Calibri\, Helvetica\, sans-serif\; font-optical-sizing: inherit\; font-size-adjust: inherit\; font-kerning: inherit\; font-feature-settings: inherit\; font-variation-settings: inherit\; font-language-override: inherit\; margin: 0px\; padding: 0px\; vertical-align: baseline\; color: rgb(0\, 0\, 0)\;"><br style="color: rgb(0\, 0\, 0)\; font-family: Aptos\, Aptos_EmbeddedFont\, Aptos_MSFontService\, Calibri\, Helvetica\, sans-serif\; font-size: 16px\; font-style: normal\; font-variant-ligatures: normal\; font-variant-caps: normal\; font-weight: 400\; letter-spacing: normal\; orphans: 2\; text-align: start\; text-indent: 0px\; text-transform: none\; widows: 2\; word-spacing: 0px\; -webkit-text-stroke-width: 0px\; white-space: normal\; background-color: rgb(255\, 255\, 255)\; text-decoration-thickness: initial\; text-decoration-style: initial\; text-decoration-color: initial\;"></div><p><span style="font-size: 24px\; color: rgb(41\, 105\, 176)\;">Professional Development Group is presented by <strong fr-original-style="" style="font-weight: 700\;"><em>Express Employment</em></strong>.&nbsp\;</span></p><p><span style="font-size: 18px\; color: rgb(65\, 168\, 95)\;">The Professional Development Group is a monthly luncheon series designed to foster growth and learning among professionals. Each session will feature engaging topics and expert speakers focused on enhancing skills\, building knowledge\, and advancing career development.</span></p></body></html>
LOCATION:Danville IL 61832
UID:e.4394.1435184
SEQUENCE:3
DTSTAMP:20260422T182807Z
URL:https://vermilionadvantagenfp.growthzoneapp.com/communityeventscalendar/Details/professional-development-group-think-bigger-1698824?sourceTypeId=Hub
END:VEVENT
END:VCALENDAR
